BEGIN:VCALENDAR
VERSION:2.0
CALSCALE:GREGORIAN
PRODID:adamgibbons/ics
METHOD:PUBLISH
X-PUBLISHED-TTL:PT1H
BEGIN:VEVENT
UID:294@freestreamers.btfree.org
SUMMARY:Friday Night LIVE : Banging in Brighton LIVE with Liam Wabbit
DTSTAMP:20260421T233734Z
DTSTART:20260424T190000Z
DTEND:20260424T200000Z
DESCRIPTION:Reppin LABR - LOVEABROTHERRADIO from Brighton its our long time
	 friend /\ncontributor Liam Whabbit
URL:https://freestreamers.btfree.org/event/friday-night-live-banging-in-bri
	ghton-live-with-liam-wabbit
LOCATION:online - https://labr.online
STATUS:CONFIRMED
CATEGORIES:fediwave,music,dj,communityradio,fediradio,labr,owncast,radio,ho
	use,loveabrotherradio,fedifriends,djlife
X-ALT-DESC;FMTTYPE=text/html:<p>Reppin LABR - LOVEABROTHERRADIO from Bright
	on its our long time friend / contributor Liam Whabbit</p>
BEGIN:VALARM
ACTION:DISPLAY
DESCRIPTION:Friday Night LIVE : Banging in Brighton LIVE with Liam Wabbit
TRIGGER:-PT1H
END:VALARM
END:VEVENT
END:VCALENDAR
