BEGIN:VCALENDAR
VERSION:2.0
CALSCALE:GREGORIAN
PRODID:adamgibbons/ics
METHOD:PUBLISH
X-PUBLISHED-TTL:PT1H
BEGIN:VEVENT
UID:270@freestreamers.btfree.org
SUMMARY:NHAM Release Party: offbeat by sknob
DTSTAMP:20260421T233538Z
DTSTART:20260423T190000Z
DTEND:20260423T200000Z
URL:https://freestreamers.btfree.org/event/nham-release-party-offbeat-by-sk
	nob
LOCATION:online - https://tv.theindiebeat.fm/
STATUS:CONFIRMED
CATEGORIES:ListenAlong,ListeningParty,NHAM,NHAM events,ReleaseParty,TIBtv,c
	hat,fediwave
END:VEVENT
BEGIN:VEVENT
UID:264@freestreamers.btfree.org
SUMMARY:Album Release Party: The Four Seasons of Bonk Wave - Autumn Waves (
	Disc 3)
DTSTAMP:20260421T233538Z
DTSTART:20260424T200000Z
DTEND:20260424T213000Z
URL:https://freestreamers.btfree.org/event/album-release-party-the-four-sea
	sons-of-bonk-wave-autumn-waves-disc-3
LOCATION:online - https://party.bonkwave.org/
STATUS:CONFIRMED
CATEGORIES:BonkWave,NHAM events,NotBonkWave,ReleaseParty,fediwave,hangout
END:VEVENT
BEGIN:VEVENT
UID:298@freestreamers.btfree.org
SUMMARY:EP Release Party: Comic Capers by inpc
DTSTAMP:20260421T233538Z
DTSTART:20260426T190000Z
DTEND:20260426T200000Z
URL:https://freestreamers.btfree.org/event/ep-release-party-comic-capers-by
	-inpc
LOCATION:online - https://stream.mxtthxw.art/
STATUS:CONFIRMED
CATEGORIES:ListenAlong,ListeningParty,NHAM events,ReleaseParty,chat,fediwav
	e
END:VEVENT
END:VCALENDAR
