BEGIN:VCALENDAR
VERSION:2.0
CALSCALE:GREGORIAN
PRODID:adamgibbons/ics
METHOD:PUBLISH
X-PUBLISHED-TTL:PT1H
BEGIN:VEVENT
UID:303@freestreamers.btfree.org
SUMMARY:Noise Block 13
DTSTAMP:20260425T033645Z
DTSTART:20260502T200000Z
DTEND:20260502T220000Z
URL:https://freestreamers.btfree.org/event/noise-block-13
LOCATION:online - https://noiseblock.live
STATUS:CONFIRMED
CATEGORIES:ENOENT,dj,electronic music,fediwave,livestream,music,noiseblock,
	owncast
END:VEVENT
END:VCALENDAR
