BEGIN:VCALENDAR
VERSION:2.0
CALSCALE:GREGORIAN
PRODID:adamgibbons/ics
METHOD:PUBLISH
X-PUBLISHED-TTL:PT1H
BEGIN:VEVENT
UID:296@freestreamers.btfree.org
SUMMARY:New: The Work Shop with Ken Walker
DTSTAMP:20260422T010526Z
DTSTART:20260422T170000Z
DTEND:20260422T190000Z
URL:https://freestreamers.btfree.org/event/new-the-work-shop-with-ken-walke
	r
LOCATION:online - https://labr.online
STATUS:CONFIRMED
CATEGORIES:communityradio,dj,fediradio,fediwave,labr,livestream,music,openf
	orm,owncast,radio
END:VEVENT
BEGIN:VEVENT
UID:295@freestreamers.btfree.org
SUMMARY:Midweek Workday Chill Mix LIVE with Brother Soul
DTSTAMP:20260422T010526Z
DTSTART:20260422T190000Z
DTEND:20260422T210000Z
URL:https://freestreamers.btfree.org/event/midweek-workday-chill-mix-live-w
	ith-brother-soul
LOCATION:online - https://labr.online
STATUS:CONFIRMED
CATEGORIES:communityradio,dj,fediradio,fediwave,labr,livestream,music,openf
	orm,owncast,radio
END:VEVENT
BEGIN:VEVENT
UID:285@freestreamers.btfree.org
SUMMARY:The Sound Of  a Dancer LIVE with  DJ Dat Gurl Curly
DTSTAMP:20260422T010526Z
DTSTART:20260423T100000Z
DTEND:20260423T130000Z
URL:https://freestreamers.btfree.org/event/the-sound-of-a-dancer-live-with-
	dj-dat-gurl-curly
LOCATION:online - https://labr.online
STATUS:CONFIRMED
CATEGORIES:communityradio,fediradio,fediwave,labr,music,owncast,radio
END:VEVENT
BEGIN:VEVENT
UID:294@freestreamers.btfree.org
SUMMARY:Friday Night LIVE : Banging in Brighton LIVE with Liam Wabbit
DTSTAMP:20260422T010526Z
DTSTART:20260424T190000Z
DTEND:20260424T200000Z
URL:https://freestreamers.btfree.org/event/friday-night-live-banging-in-bri
	ghton-live-with-liam-wabbit
LOCATION:online - https://labr.online
STATUS:CONFIRMED
CATEGORIES:communityradio,dj,djlife,fedifriends,fediradio,fediwave,house,la
	br,loveabrotherradio,music,owncast,radio
END:VEVENT
BEGIN:VEVENT
UID:289@freestreamers.btfree.org
SUMMARY:Friday Night LIVE: Weekend Workout LIVE with Brother Soul
DTSTAMP:20260422T010526Z
DTSTART:20260424T210000Z
DTEND:20260424T230000Z
URL:https://freestreamers.btfree.org/event/friday-night-live-weekend-workou
	t-live-with-brother-soul-1
LOCATION:online - https://labr.online
STATUS:CONFIRMED
CATEGORIES:communityradio,fediradio,fediwave,labr,music,owncast,radio
END:VEVENT
BEGIN:VEVENT
UID:291@freestreamers.btfree.org
SUMMARY:Friday Night LIVE : Go Funk Yourself LIVE with Witton
DTSTAMP:20260422T010526Z
DTSTART:20260424T230000Z
DTEND:20260425T000000Z
URL:https://freestreamers.btfree.org/event/friday-night-live-go-funk-yourse
	lf-live-with-witton-1
LOCATION:online - https://labr.online
STATUS:CONFIRMED
CATEGORIES:communityradio,fediradio,fediwave,labr,music,owncast,radio
END:VEVENT
BEGIN:VEVENT
UID:292@freestreamers.btfree.org
SUMMARY:The Greasy Spoon LIVE with Divine Ellison
DTSTAMP:20260422T010526Z
DTSTART:20260425T150000Z
DTEND:20260425T180000Z
URL:https://freestreamers.btfree.org/event/the-greasy-spoon-live-with-divin
	e-ellison
LOCATION:online - https://labr.online
STATUS:CONFIRMED
CATEGORIES:communityradio,fediradio,fediwave,labr,music,owncast,radio
END:VEVENT
BEGIN:VEVENT
UID:297@freestreamers.btfree.org
SUMMARY:An Evening of LIVE with DJ Bodger
DTSTAMP:20260422T010526Z
DTSTART:20260427T200000Z
DTEND:20260427T220000Z
URL:https://freestreamers.btfree.org/event/an-evening-of-live-with-dj-bodge
	r-1
LOCATION:online - https://labr.online
STATUS:CONFIRMED
CATEGORIES:communityradio,fediradio,fediwave,labr,music,owncast,radio
END:VEVENT
END:VCALENDAR
